BEGIN:VCALENDAR
VERSION:2.0
PRODID:-//PBC Event Calendar//pbconsult.de//
BEGIN:VEVENT
SUMMARY:24th European Transport Congress
DTSTART;VALUE=DATE:20260507
DTEND;VALUE=DATE:20260509
DESCRIPTION:Ansprechpartner: Susanne Götz
LOCATION:Wien\, TU Wien
URL:https://www.oevg.at/veranstaltung/100-jahre-oevg-jubilaeumstagung-euro
 pean-transport-congress/
END:VEVENT
END:VCALENDAR
