BEGIN:VCALENDAR
VERSION:2.0
PRODID:-//PBC Event Calendar//pbconsult.de//
BEGIN:VEVENT
SUMMARY:InnoTrans 2026
DTSTART;VALUE=DATE:20260922
DTEND;VALUE=DATE:20260926
LOCATION:Berlin\, Messe
URL:https://www.innotrans.de/de
END:VEVENT
END:VCALENDAR
